BEGIN:VCALENDAR
VERSION:2.0
PRODID:-//VNP | Chương trình Việt Nam - Hà Lan
CALSCALE:GREGORIAN
METHOD:PUBLISH
X-WR-CALNAME:VNP | Chương trình Việt Nam - Hà Lan
X-ORIGINAL-URL:https://vi.vnp.edu.vn/event/thesis-public-defense-vnp26-nguyen-phuc-phuong-vy/
X-WR-CALDESC:Thesis Public Defense | VNP26 &#8211; Nguyễn Phúc Phương Vy
BEGIN:VEVENT
DTSTART:20220217T150000
DTEND:20220217T160000
SUMMARY:Thesis Public Defense | VNP26 &#8211; Nguyễn Phúc Phương Vy
DESCRIPTION:
LOCATION:H.001, 1A Hoang Dieu, Phu Nhuan
END:VEVENT
END:VCALENDAR
