BEGIN:VCALENDAR
VERSION:2.0
PRODID:-//VNP | Chương trình Việt Nam - Hà Lan
CALSCALE:GREGORIAN
METHOD:PUBLISH
X-WR-CALNAME:VNP | Chương trình Việt Nam - Hà Lan
X-ORIGINAL-URL:https://vi.vnp.edu.vn/event/thesis-public-defense-vnp29-duong-duy-lam/
X-WR-CALDESC:Thesis Public Defense | VNP28 &#8211; Nguyễn Chí Nhân
BEGIN:VEVENT
DTSTART:20250911T150000
DTEND:20250911T160000
SUMMARY:Thesis Public Defense | VNP28 &#8211; Nguyễn Chí Nhân
DESCRIPTION:
LOCATION:H.305, 1A Hoang Dieu, Phu Nhuan, HCMC
END:VEVENT
END:VCALENDAR
