BEGIN:VCALENDAR
VERSION:2.0
PRODID:-//VNP | Chương trình Việt Nam - Hà Lan
CALSCALE:GREGORIAN
METHOD:PUBLISH
X-WR-CALNAME:VNP | Chương trình Việt Nam - Hà Lan
X-ORIGINAL-URL:https://vi.vnp.edu.vn/event/stbi_180803-applications-of-cge-models-in-vietnam-and-in-the-world/
X-WR-CALDESC:[STBI-180803] Applications of CGE models in Vietnam and in the World
BEGIN:VEVENT
DTSTART:20180803T150000
DTEND:20180803T160000
SUMMARY:[STBI-180803] Applications of CGE models in Vietnam and in the World
DESCRIPTION:
LOCATION:59C Nguyễn Đình Chiểu, Quận 3, HCM
END:VEVENT
END:VCALENDAR
