BEGIN:VCALENDAR
VERSION:2.0
PRODID:-//VNP | Chương trình Việt Nam - Hà Lan
CALSCALE:GREGORIAN
METHOD:PUBLISH
X-WR-CALNAME:VNP | Chương trình Việt Nam - Hà Lan
X-ORIGINAL-URL:https://vi.vnp.edu.vn/event/stbi_180706-green-space-and-deaths-attributable-to-the-urban-heat-island-effect-in-ho-chi-minh-city/
X-WR-CALDESC:[STBI-180706] Green Space and Deaths Attributable to the Urban Heat Island Effect in Ho Chi Minh City
BEGIN:VEVENT
DTSTART:20180706T113000
DTEND:20180706T001500
SUMMARY:[STBI-180706] Green Space and Deaths Attributable to the Urban Heat Island Effect in Ho Chi Minh City
DESCRIPTION:
LOCATION:1A Hoàng Diệu, Phú Nhuận, HCM
END:VEVENT
END:VCALENDAR
