BEGIN:VCALENDAR
VERSION:2.0
PRODID:-//VNP | Chương trình Việt Nam - Hà Lan
CALSCALE:GREGORIAN
METHOD:PUBLISH
X-WR-CALNAME:VNP | Chương trình Việt Nam - Hà Lan
X-ORIGINAL-URL:https://vi.vnp.edu.vn/event/stbi_20170504-easy-come-easy-go-economic-shock-labor-migration-and-the-family-left-behind/
X-WR-CALDESC:[STBI-170504] Easy come, easy go? economic shock, labor migration and the family left behind
BEGIN:VEVENT
DTSTART:20170504T100000
DTEND:20170504T110000
SUMMARY:[STBI-170504] Easy come, easy go? economic shock, labor migration and the family left behind
DESCRIPTION:
LOCATION:1A Hoàng Diệu, Phú Nhuận, HCM
END:VEVENT
END:VCALENDAR
