BEGIN:VCALENDAR
VERSION:2.0
PRODID:-//VNP | Chương trình Việt Nam - Hà Lan
CALSCALE:GREGORIAN
METHOD:PUBLISH
X-WR-CALNAME:VNP | Chương trình Việt Nam - Hà Lan
X-ORIGINAL-URL:https://vi.vnp.edu.vn/event/stbi_170330-quy-hoach-chung-xay-dung-trong-he-thong-quy-hoach-cap-tinh-cua-thanh-pho-ho-chi-minh/
X-WR-CALDESC:[STBI-170330] Quy hoạch chung xây dựng trong hệ thống quy hoạch cấp tỉnh của Thành phố Hồ Chí Minh
BEGIN:VEVENT
DTSTART:20170330T110000
DTEND:20170330T000000
SUMMARY:[STBI-170330] Quy hoạch chung xây dựng trong hệ thống quy hoạch cấp tỉnh của Thành phố Hồ Chí Minh
DESCRIPTION:
LOCATION:1A Hoàng Diệu, Phú Nhuận, HCM
END:VEVENT
END:VCALENDAR
