BEGIN:VCALENDAR
VERSION:2.0
PRODID:-//VNP | Chương trình Việt Nam - Hà Lan
CALSCALE:GREGORIAN
METHOD:PUBLISH
X-WR-CALNAME:VNP | Chương trình Việt Nam - Hà Lan
X-ORIGINAL-URL:https://vi.vnp.edu.vn/event/stbi_161215-social-network-and-getting-a-job-case-of-university-of-economics-ho-chi-minh-city/
X-WR-CALDESC:[STBI-161215] Social Network and Getting a Job: Case of University of Economics Ho Chi Minh city
BEGIN:VEVENT
DTSTART:20161215T110000
DTEND:20161215T000000
SUMMARY:[STBI-161215] Social Network and Getting a Job: Case of University of Economics Ho Chi Minh city
DESCRIPTION:
LOCATION:1A Hoàng Diệu, Phú Nhuận, HCM
END:VEVENT
END:VCALENDAR
