BEGIN:VCALENDAR
VERSION:2.0
PRODID:-//VNP | Chương trình Việt Nam - Hà Lan
CALSCALE:GREGORIAN
METHOD:PUBLISH
X-WR-CALNAME:VNP | Chương trình Việt Nam - Hà Lan
X-ORIGINAL-URL:https://vi.vnp.edu.vn/event/bvlv-130118-bao-ve-luan-van/
X-WR-CALDESC:[BVLV-130118] Bảo Vệ Luận Văn
BEGIN:VEVENT
DTSTART:20130118T130000
DTEND:20130121T180000
SUMMARY:[BVLV-130118] Bảo Vệ Luận Văn
DESCRIPTION:
LOCATION:1A Hoàng Diệu, Phú Nhuận, HCM
END:VEVENT
END:VCALENDAR
