BEGIN:VCALENDAR
VERSION:2.0
PRODID:-//VNP | Chương trình Việt Nam - Hà Lan
CALSCALE:GREGORIAN
METHOD:PUBLISH
X-WR-CALNAME:VNP | Chương trình Việt Nam - Hà Lan
X-ORIGINAL-URL:https://vi.vnp.edu.vn/event/copy-of-thesis-public-defense-vnp27-nguyen-luong-tam/
X-WR-CALDESC:Thesis Public Defense | VNP27 &#8211; Nguyễn Lương Tâm
BEGIN:VEVENT
DTSTART:20240112T150000
DTEND:20240112T160000
SUMMARY:Thesis Public Defense | VNP27 &#8211; Nguyễn Lương Tâm
DESCRIPTION:
LOCATION:H.001, 1A Hoang Dieu, Phu Nhuan
END:VEVENT
END:VCALENDAR
