BEGIN:VCALENDAR
VERSION:2.0
PRODID:-//VNP | Chương trình Việt Nam - Hà Lan
CALSCALE:GREGORIAN
METHOD:PUBLISH
X-WR-CALNAME:VNP | Chương trình Việt Nam - Hà Lan
X-ORIGINAL-URL:https://vi.vnp.edu.vn/event/stbi_170427-why-vietnam-insists-not-growing-up-like-its-neighbors/
X-WR-CALDESC:[STBI-170427] Why Vietnam insists not growing up like its neighbors?
BEGIN:VEVENT
DTSTART:20170427T110000
DTEND:20170427T000000
SUMMARY:[STBI-170427] Why Vietnam insists not growing up like its neighbors?
DESCRIPTION:
LOCATION:1A Hoàng Diệu, Phú Nhuận, HCM
END:VEVENT
END:VCALENDAR
